BEGIN:VCALENDAR
VERSION:2.0
PRODID:-//TCC Houston - ECPv6.15.13//NONSGML v1.0//EN
CALSCALE:GREGORIAN
METHOD:PUBLISH
X-ORIGINAL-URL:https://houstontcc.com
X-WR-CALDESC:Events for TCC Houston
REFRESH-INTERVAL;VALUE=DURATION:PT1H
X-Robots-Tag:noindex
X-PUBLISHED-TTL:PT1H
BEGIN:VTIMEZONE
TZID:America/Chicago
BEGIN:DAYLIGHT
TZOFFSETFROM:-0600
TZOFFSETTO:-0500
TZNAME:CDT
DTSTART:20250309T080000
END:DAYLIGHT
BEGIN:STANDARD
TZOFFSETFROM:-0500
TZOFFSETTO:-0600
TZNAME:CST
DTSTART:20251102T070000
END:STANDARD
BEGIN:DAYLIGHT
TZOFFSETFROM:-0600
TZOFFSETTO:-0500
TZNAME:CDT
DTSTART:20260308T080000
END:DAYLIGHT
BEGIN:STANDARD
TZOFFSETFROM:-0500
TZOFFSETTO:-0600
TZNAME:CST
DTSTART:20261101T070000
END:STANDARD
BEGIN:DAYLIGHT
TZOFFSETFROM:-0600
TZOFFSETTO:-0500
TZNAME:CDT
DTSTART:20270314T080000
END:DAYLIGHT
BEGIN:STANDARD
TZOFFSETFROM:-0500
TZOFFSETTO:-0600
TZNAME:CST
DTSTART:20271107T070000
END:STANDARD
END:VTIMEZONE
BEGIN:VEVENT
DTSTART;TZID=America/Chicago:20260215T140000
DTEND;TZID=America/Chicago:20260215T160000
DTSTAMP:20260424T051230
CREATED:20260205T202830Z
LAST-MODIFIED:20260205T202830Z
UID:2486-1771164000-1771171200@houstontcc.com
SUMMARY:如何利用 AI 成為超人類（Superhuman）  
DESCRIPTION:如何利用 AI 成為超人類（Superhuman） \n在指數型科技與 AI 的時代，人類能力正被重新定義。\nAI 不再只是工具，而是能放大人類智慧與行動力的夥伴。 \n本場講座將帶領大家探索如何擁抱 AI、善用 AI，\n讓自己在快速變動的世界中，從「被動適應者」轉變為「主動駕馭者」，\n進而釋放屬於自己的超人類潛能（Superhuman）。 \nDavid 將於本場講座中，分享他對 AI 對當代社會影響的觀察， \n並結合實際經驗，解析 AI 在個人與商業應用場景中的實踐方式。 \n 活動時間：2026年2月15日（星期日）下午 2:00 – 4:00\n 活動地點：休士頓僑教中心 203 室\n 本活動限休士頓台灣商會會員及親友參加 \n報名連結:\nhttps://forms.gle/hwtaKxeWGnRLqsBz5 \n名額有限，敬請會友踴躍報名，把握難得的學習與交流機會。 \n講師簡介： \n\nDavid Chang 張德仁\nFounder & Chief Product Officer\, EIQ Digital AI\n（能源轉型科技公司創辦人暨產品長）\n\n會友如有疑問，可用E-mail或洽祕書處呂明雪(832) 483-5162，秘書長張園立 (832) 788-1858。 \n\n馬上加入會員:\nhttps://tcchouston.org/online-membership-application/\nZELLE Pay: TCCHOUSTON@GMAIL.COM\n\n誠摯期待與您相聚！\n\n會長 李雄 敬邀\n休士頓台灣商會 TCCGH
URL:https://houstontcc.com/event/seminar0226/
LOCATION:Culture Center of Taipei Economic and Cultural Office in Houston\, 10303 Westoffice Dr\, Houston\, TX\, 77042\, United States
CATEGORIES:2026,seminar
ATTACH;FMTTYPE=image/jpeg:https://houstontcc.com/wp-content/uploads/2026/02/TCCTECH.jpg
END:VEVENT
END:VCALENDAR