BEGIN:VCALENDAR
VERSION:2.0
PRODID:-//TCC Houston - ECPv6.15.13//NONSGML v1.0//EN
CALSCALE:GREGORIAN
METHOD:PUBLISH
X-WR-CALNAME:TCC Houston
X-ORIGINAL-URL:https://houstontcc.com
X-WR-CALDESC:Events for TCC Houston
REFRESH-INTERVAL;VALUE=DURATION:PT1H
X-Robots-Tag:noindex
X-PUBLISHED-TTL:PT1H
BEGIN:VTIMEZONE
TZID:America/Chicago
BEGIN:DAYLIGHT
TZOFFSETFROM:-0600
TZOFFSETTO:-0500
TZNAME:CDT
DTSTART:20240310T080000
END:DAYLIGHT
BEGIN:STANDARD
TZOFFSETFROM:-0500
TZOFFSETTO:-0600
TZNAME:CST
DTSTART:20241103T070000
END:STANDARD
BEGIN:DAYLIGHT
TZOFFSETFROM:-0600
TZOFFSETTO:-0500
TZNAME:CDT
DTSTART:20250309T080000
END:DAYLIGHT
BEGIN:STANDARD
TZOFFSETFROM:-0500
TZOFFSETTO:-0600
TZNAME:CST
DTSTART:20251102T070000
END:STANDARD
BEGIN:DAYLIGHT
TZOFFSETFROM:-0600
TZOFFSETTO:-0500
TZNAME:CDT
DTSTART:20260308T080000
END:DAYLIGHT
BEGIN:STANDARD
TZOFFSETFROM:-0500
TZOFFSETTO:-0600
TZNAME:CST
DTSTART:20261101T070000
END:STANDARD
END:VTIMEZONE
BEGIN:VEVENT
DTSTART;TZID=America/Chicago:20251217T183000
DTEND;TZID=America/Chicago:20251217T210000
DTSTAMP:20260424T115422
CREATED:20251204T234019Z
LAST-MODIFIED:20251204T234052Z
UID:2449-1765996200-1766005200@houstontcc.com
SUMMARY:休士頓臺灣商會2025年聖誕餐會
DESCRIPTION:親愛的商會會員、朋友們您好： \n一年一度的聖誕佳節即將到來，休士頓台灣商會誠摯邀請您參加我們精心準備的 Christmas Gathering 聖誕餐會。這不僅是一場美食饗宴，更是一個讓大家在歲末團聚、交流、分享喜悅的溫暖時刻。 \n今年我們選在深受大家喜愛的 北海道 Hokkaido Sushi 舉辦，希望透過輕鬆愉快的氛圍，讓您與家人朋友一起度過一個充滿歡笑與祝福的夜晚。 \n活動名額有限，為確保座位，請您盡早完成線上報名。\n報名連結: https://forms.gle/BqBJHbE8KRB7CRW2A\n期待與您一同歡慶聖誕、迎接嶄新的 2025 年！ \n(報名截止日: 12/14/2025 或額滿為止\, 限會友及親友參加) \n時間：December 17\, 2025 Wednesday 6:30pm – 9:00pm\n地點：北海道餐廳 (9108 Bellaire Blvd suite b\, Houston\, TX 77036)\n費用：無菜單料理 – $20 會員 $35 非會員  (報名截止日: 12/14/2025 或額滿為止  \, 限會友及親友參加) \n             Zelle Pay: TCCHOUSTON@GMAIL.COM\, 支票\, 現金 (先繳費先鎖定名額)\n會友如有疑問，可用E-mail或洽祕書處呂明雪(832) 483-5162，秘書長張園立 (832) 788-1858。 \n\n誠摯期待與您相聚，共度佳節！\n\n會長 李雄 敬邀\n\n休士頓台灣商會 TCCGH
URL:https://houstontcc.com/event/christmasgathering2025/
LOCATION:北海道 Hokkaido Sushi\, 9108 Bellaire Blvd suite B\, Houston\, TX\, 77036\, United States
CATEGORIES:2025
ATTACH;FMTTYPE=image/jpeg:https://houstontcc.com/wp-content/uploads/2025/12/TCC-Christmas-Dinner.jpg
END:VEVENT
BEGIN:VEVENT
DTSTART;TZID=America/Chicago:20251010T180000
DTEND;TZID=America/Chicago:20251010T210000
DTSTAMP:20260424T115422
CREATED:20250903T193939Z
LAST-MODIFIED:20250904T170137Z
UID:2304-1760119200-1760130000@houstontcc.com
SUMMARY:114年國慶晚宴
DESCRIPTION:
URL:https://houstontcc.com/event/114-doubleten-gala/
LOCATION:Ocea Palace\, 11215 Bellaire Blvd\, Houston\, TX\, 77072\, United States
CATEGORIES:114國慶活動,2025,zh
ATTACH;FMTTYPE=image/png:https://houstontcc.com/wp-content/uploads/2025/09/D921FE072949D17B8D6CE00AC02F75E80A133776.png
END:VEVENT
BEGIN:VEVENT
DTSTART;TZID=America/Chicago:20250928T140000
DTEND;TZID=America/Chicago:20250928T160000
DTSTAMP:20260424T115422
CREATED:20250903T182240Z
LAST-MODIFIED:20250904T170253Z
UID:2273-1759068000-1759075200@houstontcc.com
SUMMARY:那一年我們的歌
DESCRIPTION:
URL:https://houstontcc.com/event/doubleten-live-concert-2025/
LOCATION:Culture Center of Taipei Economic and Cultural Office in Houston\, 10303 Westoffice Dr\, Houston\, TX\, 77042\, United States
CATEGORIES:114國慶活動,2025,zh
ATTACH;FMTTYPE=image/webp:https://houstontcc.com/wp-content/uploads/2025/09/S__110887005.webp
END:VEVENT
END:VCALENDAR