BEGIN:VCALENDAR
VERSION:2.0
PRODID:-//TCC Houston - ECPv6.15.13//NONSGML v1.0//EN
CALSCALE:GREGORIAN
METHOD:PUBLISH
X-WR-CALNAME:TCC Houston
X-ORIGINAL-URL:https://houstontcc.com
X-WR-CALDESC:Events for TCC Houston
REFRESH-INTERVAL;VALUE=DURATION:PT1H
X-Robots-Tag:noindex
X-PUBLISHED-TTL:PT1H
BEGIN:VTIMEZONE
TZID:America/Chicago
BEGIN:DAYLIGHT
TZOFFSETFROM:-0600
TZOFFSETTO:-0500
TZNAME:CDT
DTSTART:20250309T080000
END:DAYLIGHT
BEGIN:STANDARD
TZOFFSETFROM:-0500
TZOFFSETTO:-0600
TZNAME:CST
DTSTART:20251102T070000
END:STANDARD
BEGIN:DAYLIGHT
TZOFFSETFROM:-0600
TZOFFSETTO:-0500
TZNAME:CDT
DTSTART:20260308T080000
END:DAYLIGHT
BEGIN:STANDARD
TZOFFSETFROM:-0500
TZOFFSETTO:-0600
TZNAME:CST
DTSTART:20261101T070000
END:STANDARD
BEGIN:DAYLIGHT
TZOFFSETFROM:-0600
TZOFFSETTO:-0500
TZNAME:CDT
DTSTART:20270314T080000
END:DAYLIGHT
BEGIN:STANDARD
TZOFFSETFROM:-0500
TZOFFSETTO:-0600
TZNAME:CST
DTSTART:20271107T070000
END:STANDARD
END:VTIMEZONE
BEGIN:VEVENT
DTSTART;TZID=America/Chicago:20260215T140000
DTEND;TZID=America/Chicago:20260215T160000
DTSTAMP:20260424T082421
CREATED:20260205T202830Z
LAST-MODIFIED:20260205T202830Z
UID:2486-1771164000-1771171200@houstontcc.com
SUMMARY:如何利用 AI 成為超人類（Superhuman）  
DESCRIPTION:如何利用 AI 成為超人類（Superhuman） \n在指數型科技與 AI 的時代，人類能力正被重新定義。\nAI 不再只是工具，而是能放大人類智慧與行動力的夥伴。 \n本場講座將帶領大家探索如何擁抱 AI、善用 AI，\n讓自己在快速變動的世界中，從「被動適應者」轉變為「主動駕馭者」，\n進而釋放屬於自己的超人類潛能（Superhuman）。 \nDavid 將於本場講座中，分享他對 AI 對當代社會影響的觀察， \n並結合實際經驗，解析 AI 在個人與商業應用場景中的實踐方式。 \n 活動時間：2026年2月15日（星期日）下午 2:00 – 4:00\n 活動地點：休士頓僑教中心 203 室\n 本活動限休士頓台灣商會會員及親友參加 \n報名連結:\nhttps://forms.gle/hwtaKxeWGnRLqsBz5 \n名額有限，敬請會友踴躍報名，把握難得的學習與交流機會。 \n講師簡介： \n\nDavid Chang 張德仁\nFounder & Chief Product Officer\, EIQ Digital AI\n（能源轉型科技公司創辦人暨產品長）\n\n會友如有疑問，可用E-mail或洽祕書處呂明雪(832) 483-5162，秘書長張園立 (832) 788-1858。 \n\n馬上加入會員:\nhttps://tcchouston.org/online-membership-application/\nZELLE Pay: TCCHOUSTON@GMAIL.COM\n\n誠摯期待與您相聚！\n\n會長 李雄 敬邀\n休士頓台灣商會 TCCGH
URL:https://houstontcc.com/event/seminar0226/
LOCATION:Culture Center of Taipei Economic and Cultural Office in Houston\, 10303 Westoffice Dr\, Houston\, TX\, 77042\, United States
CATEGORIES:2026,seminar
ATTACH;FMTTYPE=image/jpeg:https://houstontcc.com/wp-content/uploads/2026/02/TCCTECH.jpg
END:VEVENT
BEGIN:VEVENT
DTSTART;TZID=America/Chicago:20260227T183000
DTEND;TZID=America/Chicago:20260227T210000
DTSTAMP:20260424T082421
CREATED:20260213T214438Z
LAST-MODIFIED:20260213T215626Z
UID:2502-1772217000-1772226000@houstontcc.com
SUMMARY:休士頓臺灣商會 Business Networking Event
DESCRIPTION:  \n親愛的商會會員、朋友們您好： \n休士頓台灣商會誠摯邀請會員及各界企業人士參加本次 Business Networking Event。\n本活動旨在促進會員之間的交流與合作，拓展人脈、分享資源，並創造更多商業合作機會。 \n  \n透過輕鬆自在的交流環境，讓與會者能夠認識更多來自不同產業的專業人士，建立長期且具價值的商業關係。 \n活動名額有限，為確保座位，請您盡早完成線上報名。 \n(報名截止日: 2/24/2026 或額滿為止\, 限會員及親友參加) \n時間：February 27\, 2026 Friday 6:30pm – 9:00pm\n地點： ACP Hotel Westchase (6855 W Sam Houston Pkwy S\, Houston\, TX 77072)\n費用：$20 會員 $40 非會員  (報名截止日: 2/24/2025 或額滿為止  \, 限會友及親友參加) ZELLE Pay: TCCHOUSTON@GMAIL.COM\, 支票\, 現金 (先繳費先鎖定名額) \n \n報名連結:\nhttps://forms.gle/kDrsayJtmeXk3ScYA\n\n會友如有疑問，可用E-mail或洽祕書處呂明雪(832) 483-5162，秘書長張園立 (832) 788-1858。 \n\n馬上加入會員:\nhttps://tcchouston.org/online-membership-application/\nZELLE Pay: TCCHOUSTON@GMAIL.COM\n\n誠摯期待與您相聚！\n\n會長 李雄 敬邀\n休士頓台灣商會 TCCGH\n\n———————————————————————————————————————————————————————\n\n\n\nDear Members and Friends\, \nThe Taiwanese Chamber of Commerce of Greater Houston cordially invites you to join our upcoming Business Networking Event. \nThis event is designed to foster connections among members and business professionals\, expand networks\, share resources\, and create new opportunities for collaboration. \nIn a relaxed and friendly atmosphere\, you will have the chance to meet professionals from various industries and build meaningful\, long-term business relationships. \nSeats are limited. Please complete your registration early to secure your spot. \nEvent Details\nDate: Friday\, February 27\, 2026\nTime: 6:30 PM – 9:00 PM\nLocation: ACP Hotel Westchase\n6855 W Sam Houston Pkwy S\, Houston\, TX 77072 \nFee\nMember: $20\nNon-member: $40\n(Registration deadline: Feb 24\, 2026 or until full. Open to members and their guests only.) \nPayment Methods\nZelle: TCCHOUSTON@GMAIL.COM\nCheck or Cash (first payment secures your seat) \nRegistration link:\nhttps://forms.gle/kDrsayJtmeXk3ScYA\nFor questions\, please contact:\nMing Lu: 832-483-5162\nSam Chang: 832-788-1858 \nJoin TCCGH today:\nhttps://tcchouston.org/language/zh/online-membership-application/ \nWe look forward to seeing you! \nSincerely\,\nKenneth Li\nPresident\nTaiwanese Chamber of Commerce of Greater Houston (TCCGH)
URL:https://houstontcc.com/event/businessnetworking022026/
LOCATION:ACP Hotel Westchase\, 6855 W Sam Houston Pkwy S\, Houston\, TX\, 77072\, United States
CATEGORIES:2026
ATTACH;FMTTYPE=image/webp:https://houstontcc.com/wp-content/uploads/2026/02/TCCNETWORK.webp
END:VEVENT
BEGIN:VEVENT
DTSTART;TZID=America/Chicago:20260315T140000
DTEND;TZID=America/Chicago:20260315T160000
DTSTAMP:20260424T082421
CREATED:20260113T211224Z
LAST-MODIFIED:20260305T005958Z
UID:2475-1773583200-1773590400@houstontcc.com
SUMMARY:休士頓台灣商會「醫美健康講座」
DESCRIPTION:親愛的商會會員、朋友們您好： \n原訂於 2026年1月25日舉辦的「醫美健康講座」，因當時天氣因素影響而延期，現已重新安排於 2026年3月15日（星期日）舉行。誠摯邀請各位會友再次把時間留下來，一起來參加這場實用又有趣的健康講座！ \n新的一年，你是否也想知道 如何保持年輕、健康與自信？ \n其實抗老不只是外表的改變，更包含身體機能與生活型態的調整。本次講座將從 生活型態醫學到美容醫學，帶大家了解如何透過科學與醫學的方式，打造 由內而外的抗老策略。 \n休士頓台灣商會特別邀請\n美國執業醫師 吳尚真醫師（Dr. Allison Wu）\n與大家分享最新的醫美與健康保養觀念，讓大家在忙碌的生活中，也能更輕鬆地維持良好的身體狀態與年輕活力。 \n整場講座將以 輕鬆、專業、好理解的方式 進行，非常適合關心健康、保養與生活品質的會友與親友一起參加。 \n 活動時間：2026年3月15日（星期日）下午 2:00 – 4:00\n 活動地點：休士頓僑教中心 203 室 \n 本活動 限休士頓台灣商會會員及親友參加 \n名額有限，歡迎大家 踴躍報名，一起學習、交流，也順便和會友們聚一聚！ \n\n講師簡介 \n吳尚真醫師（Dr. Allison Wu）\n美國執業醫師，同時擁有台灣、美國、日本醫師執照，具備美國肥胖醫學專科與生活型態醫學專科資格，並通過美國美容醫學會認證。臨床上專注於美容醫學與抗老化醫學，結合生活型態醫學與代謝評估，打造由內而外的全方位抗老照護策略，幫助患者在自然狀態下維持最佳整體狀態。 \n\n如有任何疑問，歡迎與秘書處聯繫：\n呂明雪 (832) 483-5162\n秘書長 張園立 (832) 788-1858 \n報名連結：\nhttps://forms.gle/VUxKPso3uHw72VJ87 \n馬上加入會員：\nhttps://tcchouston.org/online-membership-application/ \nZELLE Pay:\nTCCHOUSTON@GMAIL.COM \n誠摯期待與您相聚！ \n會長 李雄 敬邀\n休士頓台灣商會 TCCGH
URL:https://houstontcc.com/event/seminar0326/
LOCATION:Culture Center of Taipei Economic and Cultural Office in Houston\, 10303 Westoffice Dr\, Houston\, TX\, 77042\, United States
CATEGORIES:2026,seminar
ATTACH;FMTTYPE=image/jpeg:https://houstontcc.com/wp-content/uploads/2026/01/TCCMARCH.jpg
END:VEVENT
BEGIN:VEVENT
DTSTART;TZID=America/Chicago:20260429T183000
DTEND;TZID=America/Chicago:20260429T210000
DTSTAMP:20260424T082421
CREATED:20260421T194446Z
LAST-MODIFIED:20260423T170227Z
UID:2579-1777487400-1777496400@houstontcc.com
SUMMARY:Taiwan Movie Night 台灣電影之夜
DESCRIPTION: Taiwan Movie Night｜台灣電影之夜休士頓台灣商會邀請您一同透過電影，走進台灣的歷史與人文故事。本次精選三部榮獲肯定的台灣短片，帶您在一個夜晚中，體驗跨越時代與文化的深刻情感。 三部得獎短片一次欣賞：Encounters in the Rising Mist｜霧起遇見The Decision｜百年原殤－抉擇A Bridge in the Mist｜百年原殤－虹霧報名連結： \nhttps://forms.gle/GPeSLVd97xJjzg1S8 休士頓台商會會員免費\, 非會員 $15，即可欣賞三部作品！ \n 日期：2026年4月29日（星期三） \n 時間：Networking: 6:30 PM;    Movie: 7:30 PM – 9:00 PM \n 地點：Cinemark Memorial City (310 Memorial City Mall\, Houston\, TX 77024) 合作單位：WorldFest Houston \nZELLE Pay: TCCHOUSTON@GMAIL.COM支票\, 現金 (先繳費先鎖定名額)
URL:https://houstontcc.com/event/taiwan-movie-night-042026/
LOCATION:Cinemark Memorial City\, 310 Memorial City Mall\, Houston\, TX\, 77024\, United States
CATEGORIES:2026
ATTACH;FMTTYPE=image/jpeg:https://houstontcc.com/wp-content/uploads/2026/04/image0-12.jpeg
END:VEVENT
END:VCALENDAR